BEGIN:VCALENDAR
VERSION:2.0
PRODID:-//Agrarische Jongeren Friesland - ECPv4.9.7//NONSGML v1.0//EN
CALSCALE:GREGORIAN
METHOD:PUBLISH
X-WR-CALNAME:Agrarische Jongeren Friesland
X-ORIGINAL-URL:https://www.ajfriesland.nl
X-WR-CALDESC:Events for Agrarische Jongeren Friesland
BEGIN:VTIMEZONE
TZID:"Europe/Paris"
BEGIN:DAYLIGHT
TZOFFSETFROM:+0100
TZOFFSETTO:+0200
TZNAME:CEST
DTSTART:20190331T010000
END:DAYLIGHT
BEGIN:STANDARD
TZOFFSETFROM:+0200
TZOFFSETTO:+0100
TZNAME:CET
DTSTART:20191027T010000
END:STANDARD
END:VTIMEZONE
BEGIN:VEVENT
DTSTART;TZID="Europe/Paris":20190902T200000
DTEND;TZID="Europe/Paris":20190902T223000
DTSTAMP:20260426T043017
CREATED:20190723T131532Z
LAST-MODIFIED:20190819T114716Z
UID:6930-1567454400-1567463400@www.ajfriesland.nl
SUMMARY:AJF | Excursie Melkveehouderij
DESCRIPTION:Excursie in het teken van maisproeven en boeren op veen \n
URL:https://www.ajfriesland.nl/event/ajf-excursie-melkveehouderij-datum-optie/
LOCATION:Maatschap den Hertog Venema\, Middenweg 6\, VEGELINSOORD\, 8467 SV
END:VEVENT
END:VCALENDAR