BEGIN:VCALENDAR
VERSION:2.0
PRODID:-//Agrarische Jongeren Friesland - ECPv4.9.7//NONSGML v1.0//EN
CALSCALE:GREGORIAN
METHOD:PUBLISH
X-WR-CALNAME:Agrarische Jongeren Friesland
X-ORIGINAL-URL:https://www.ajfriesland.nl
X-WR-CALDESC:Events for Agrarische Jongeren Friesland
BEGIN:VTIMEZONE
TZID:"Europe/Paris"
BEGIN:DAYLIGHT
TZOFFSETFROM:+0100
TZOFFSETTO:+0200
TZNAME:CEST
DTSTART:20210328T010000
END:DAYLIGHT
BEGIN:STANDARD
TZOFFSETFROM:+0200
TZOFFSETTO:+0100
TZNAME:CET
DTSTART:20211031T010000
END:STANDARD
END:VTIMEZONE
BEGIN:VEVENT
DTSTART;TZID="Europe/Paris":20211129T200000
DTEND;TZID="Europe/Paris":20211129T213000
DTSTAMP:20260425T232338
CREATED:20211123T114528Z
LAST-MODIFIED:20211123T114528Z
UID:9352-1638216000-1638221400@www.ajfriesland.nl
SUMMARY:AJF PB met Niscoo
DESCRIPTION:advertentie NISCOO AJF \n
URL:https://www.ajfriesland.nl/event/ajf-pb-met-niscoo/
END:VEVENT
END:VCALENDAR