BEGIN:VCALENDAR
VERSION:2.0
PRODID:-//Agrarische Jongeren Friesland - ECPv4.9.7//NONSGML v1.0//EN
CALSCALE:GREGORIAN
METHOD:PUBLISH
X-WR-CALNAME:Agrarische Jongeren Friesland
X-ORIGINAL-URL:https://www.ajfriesland.nl
X-WR-CALDESC:Events for Agrarische Jongeren Friesland
BEGIN:VTIMEZONE
TZID:"Europe/Paris"
BEGIN:DAYLIGHT
TZOFFSETFROM:+0100
TZOFFSETTO:+0200
TZNAME:CEST
DTSTART:20190331T010000
END:DAYLIGHT
BEGIN:STANDARD
TZOFFSETFROM:+0200
TZOFFSETTO:+0100
TZNAME:CET
DTSTART:20191027T010000
END:STANDARD
END:VTIMEZONE
BEGIN:VEVENT
DTSTART;TZID="Europe/Paris":20191014T200000
DTEND;TZID="Europe/Paris":20191014T223000
DTSTAMP:20260426T011434
CREATED:20191003T074519Z
LAST-MODIFIED:20191010T123913Z
UID:7993-1571083200-1571092200@www.ajfriesland.nl
SUMMARY:AJF | Provinciale ledenavond over PAS
DESCRIPTION:Meld je snel aan via een mail naar info@ajf.najk.nl en geef aan met hoeveel personen je komt.  \nI.v.m. de grote opkomst is de locatie gewijzigd. We komen bij elkaar in ’t Holt in Deinum. \n
URL:https://www.ajfriesland.nl/event/ajf-provinciale-ledenavond-over-pas/
LOCATION:Zalen en partycentrum It Holt\, IT Holt 6\, Deinum\, Friesland\, 9033 WH
CATEGORIES:AJF
END:VEVENT
END:VCALENDAR