BEGIN:VCALENDAR
VERSION:2.0
PRODID:-//Agrarische Jongeren Friesland - ECPv4.9.7//NONSGML v1.0//EN
CALSCALE:GREGORIAN
METHOD:PUBLISH
X-WR-CALNAME:Agrarische Jongeren Friesland
X-ORIGINAL-URL:https://www.ajfriesland.nl
X-WR-CALDESC:Events for Agrarische Jongeren Friesland
BEGIN:VTIMEZONE
TZID:"Europe/Paris"
BEGIN:DAYLIGHT
TZOFFSETFROM:+0100
TZOFFSETTO:+0200
TZNAME:CEST
DTSTART:20220327T010000
END:DAYLIGHT
BEGIN:STANDARD
TZOFFSETFROM:+0200
TZOFFSETTO:+0100
TZNAME:CET
DTSTART:20221030T010000
END:STANDARD
END:VTIMEZONE
BEGIN:VEVENT
DTSTART;TZID="Europe/Paris":20220502T194500
DTEND;TZID="Europe/Paris":20220502T230000
DTSTAMP:20260425T215356
CREATED:20220202T113453Z
LAST-MODIFIED:20220304T181052Z
UID:9395-1651520700-1651532400@www.ajfriesland.nl
SUMMARY:NIEUWE DATUM - ALV AJF - Algemene Ledenvergadering
DESCRIPTION:Algemene Ledenvergadering AJF \nSpecial Guest: Caroline van der Plas \nUitgebreide informatie volgt snel. \n
URL:https://www.ajfriesland.nl/event/alv-ajf-algemene-ledenvergadering/
CATEGORIES:AJF,Wijnjewoude
ATTACH;FMTTYPE=image/jpeg:https://www.ajfriesland.nl/wp-content/uploads/1.jpg
END:VEVENT
END:VCALENDAR