BEGIN:VCALENDAR
VERSION:2.0
PRODID:-//Agrarische Jongeren Friesland - ECPv4.9.7//NONSGML v1.0//EN
CALSCALE:GREGORIAN
METHOD:PUBLISH
X-WR-CALNAME:Agrarische Jongeren Friesland
X-ORIGINAL-URL:https://www.ajfriesland.nl
X-WR-CALDESC:Events for Agrarische Jongeren Friesland
BEGIN:VTIMEZONE
TZID:"Europe/Paris"
BEGIN:DAYLIGHT
TZOFFSETFROM:+0100
TZOFFSETTO:+0200
TZNAME:CEST
DTSTART:20200329T010000
END:DAYLIGHT
BEGIN:STANDARD
TZOFFSETFROM:+0200
TZOFFSETTO:+0100
TZNAME:CET
DTSTART:20201025T010000
END:STANDARD
END:VTIMEZONE
BEGIN:VEVENT
DTSTART;TZID="Europe/Paris":20200922T200000
DTEND;TZID="Europe/Paris":20200922T220000
DTSTAMP:20260425T143630
CREATED:20200910T082736Z
LAST-MODIFIED:20200910T082736Z
UID:8737-1600804800-1600812000@www.ajfriesland.nl
SUMMARY:Buorkje mei/sunder wetter
DESCRIPTION:Het is lange tijd stil geweest en het blijft ook nog rustig met activiteiten\, maar we hebben vanuit de werkgroepen akkerbouw en melkveehouderij toch gemeend iets te willen organiseren.\nDeze keer op een iets andere manier en binnen de mogelijkheden die er zijn.\nNormaal zijn jullie gewend óf voor akkerbouw óf voor melkveehouderij uitgenodigd te worden. Deze keer richten we ons gezamenlijk op het “Thema Water” en dat is voor beide sectoren van groot belang.\nWe hebben hiervoor Wetterskip Fryslan\, de Provinsje Fryslan en 2 geschikte boeren bij betrokken die ervaringen met ons als jonge boeren willen delen.\nJe kunt je (uitsluitend per mail: info@ajf.najk.nl ) aanmelden voor onderstaande data: \nDi. 8 september\nMelkveehouderij op zandgrond\nLocatie:\nDhr. A. Witteveen\nPeter Stuyvesantweg 109\n8479 HK  Oldetrijne \nDi. 22 september\nAkkerbouw / Melkveehouderij op kleigrond       \nLocatie:\nFa. Goodijk\nSlachte 4\n8855 XB  Sexbierum \nBeide avonden zijn vrij toegankelijk\, maar we willen jullie met nadruk vragen je uitsluitend per mail aan te melden. Er geldt een maximum aantal deelnemers van 25 personen per bijeenkomst\, vol = vol.\nWe willen jullie vragen de voorschriften rondom corona te hanteren zoals voorgeschreven door het RIVM (1\,5 meter afstand\, bij klachten thuis blijven\, etc.) \nMet vriendelijke groet\,\nFoppe Sinnema & Joost Mulder\nAkkerbouw & Melkveehouderij Commissie \n
URL:https://www.ajfriesland.nl/event/buorkje-mei-sunder-wetter/
END:VEVENT
END:VCALENDAR