BEGIN:VCALENDAR
VERSION:2.0
PRODID:-//Agrarische Jongeren Friesland - ECPv4.9.7//NONSGML v1.0//EN
CALSCALE:GREGORIAN
METHOD:PUBLISH
X-WR-CALNAME:Agrarische Jongeren Friesland
X-ORIGINAL-URL:https://www.ajfriesland.nl
X-WR-CALDESC:Events for Agrarische Jongeren Friesland
BEGIN:VTIMEZONE
TZID:"Europe/Paris"
BEGIN:DAYLIGHT
TZOFFSETFROM:+0100
TZOFFSETTO:+0200
TZNAME:CEST
DTSTART:20210328T010000
END:DAYLIGHT
BEGIN:STANDARD
TZOFFSETFROM:+0200
TZOFFSETTO:+0100
TZNAME:CET
DTSTART:20211031T010000
END:STANDARD
END:VTIMEZONE
BEGIN:VEVENT
DTSTART;TZID="Europe/Paris":20211021T193000
DTEND;TZID="Europe/Paris":20211021T213000
DTSTAMP:20260425T210827
CREATED:20211018T090919Z
LAST-MODIFIED:20211018T090919Z
UID:9284-1634844600-1634851800@www.ajfriesland.nl
SUMMARY:Demo leverbot veenweide Fryslân
DESCRIPTION:Jaarlijks voert het Veenweideprogramma voor veehouders tankmelkonderzoek uit naar dierziekten als leverbot en salmonella. Bij peilverhogingen willen we door de Gezondheidsdienst voor Dieren deze ziekten in tankmelkmonsters (of faeces monsters) blijvend monitoren. \nDit jaar heeft de GD binnen het project “Nadere verkenning risico’s op leverbotinfecties bij vernatting van veengronden” een onderzoek en een handleiding voor veehouders afgerond. Piet Vellema (GD) gaat tijdens deze demo in op de resultaten van het onderzoek. Toelichting op leverbotcyclus en het treffen van preventieve maatregelen bij vernatting van het veengebied komt tijdens deze avond ook aan bod. \n
URL:https://www.ajfriesland.nl/event/demo-leverbot-veenweide-fryslan/
LOCATION:Zalencentrum ‘ T Haske\, Vegelinsweg 20\, Joure\, 8501 BA\, Nederland
END:VEVENT
END:VCALENDAR