BEGIN:VCALENDAR
VERSION:2.0
PRODID:-//Agrarische Jongeren Friesland - ECPv4.9.7//NONSGML v1.0//EN
CALSCALE:GREGORIAN
METHOD:PUBLISH
X-WR-CALNAME:Agrarische Jongeren Friesland
X-ORIGINAL-URL:https://www.ajfriesland.nl
X-WR-CALDESC:Events for Agrarische Jongeren Friesland
BEGIN:VTIMEZONE
TZID:"Europe/Paris"
BEGIN:DAYLIGHT
TZOFFSETFROM:+0100
TZOFFSETTO:+0200
TZNAME:CEST
DTSTART:20210328T010000
END:DAYLIGHT
BEGIN:STANDARD
TZOFFSETFROM:+0200
TZOFFSETTO:+0100
TZNAME:CET
DTSTART:20211031T010000
END:STANDARD
END:VTIMEZONE
BEGIN:VEVENT
DTSTART;TZID="Europe/Paris":20211220T200000
DTEND;TZID="Europe/Paris":20211220T220000
DTSTAMP:20260425T215444
CREATED:20211206T150923Z
LAST-MODIFIED:20211214T131814Z
UID:9369-1640030400-1640037600@www.ajfriesland.nl
SUMMARY:Digitale bijeenkomst thema "Grond"
DESCRIPTION:Als AJF organiseren wij een digitale bijeenkomst over het onderwerp ‘Grond’. Hoe denken we dat onze huidige Nederlandse landbouwgrond er in de toekomst uit ziet? Wat is de rol van de landbouwgrond voor de maatschappij en welke rol speelt de boer hierin\, en hoe gaan we om met de ruimte die we hebben? \nMet de kennis en ervaring van onze partner Agri Vastgoed gaan wij graag het gesprek met elkaar aan. Het beloofd een interactieve avond te worden met stellingen en discussies rondom het thema ‘grond’.\nPraat met ons mee en bouw mee aan de visie van NAJK! \nTe gast:\nEelke Turkstra en Reitze Sybesma van Agri Vastgoed\nHarold Overmars portefeuillehouder Leefomgeving bij NAJK \n \n
URL:https://www.ajfriesland.nl/event/digitale-bijeenkomst-thema-grond/
CATEGORIES:AJF
ATTACH;FMTTYPE=image/jpeg:https://www.ajfriesland.nl/wp-content/uploads/DSC0311_kl.jpg
END:VEVENT
END:VCALENDAR