BEGIN:VCALENDAR
VERSION:2.0
PRODID:-//Agrarische Jongeren Friesland - ECPv4.9.7//NONSGML v1.0//EN
CALSCALE:GREGORIAN
METHOD:PUBLISH
X-WR-CALNAME:Agrarische Jongeren Friesland
X-ORIGINAL-URL:https://www.ajfriesland.nl
X-WR-CALDESC:Events for Agrarische Jongeren Friesland
BEGIN:VTIMEZONE
TZID:"Europe/Paris"
BEGIN:DAYLIGHT
TZOFFSETFROM:+0100
TZOFFSETTO:+0200
TZNAME:CEST
DTSTART:20210328T010000
END:DAYLIGHT
BEGIN:STANDARD
TZOFFSETFROM:+0200
TZOFFSETTO:+0100
TZNAME:CET
DTSTART:20211031T010000
END:STANDARD
END:VTIMEZONE
BEGIN:VEVENT
DTSTART;TZID="Europe/Paris":20211102T200000
DTEND;TZID="Europe/Paris":20211102T220000
DTSTAMP:20260425T225057
CREATED:20211018T091652Z
LAST-MODIFIED:20211018T092448Z
UID:9286-1635883200-1635890400@www.ajfriesland.nl
SUMMARY:Melkveehouderij Vakgroep ism CRV
DESCRIPTION:Info volgt zsm \n
URL:https://www.ajfriesland.nl/event/melkveehouderij-vakgroep-ism-crv/
LOCATION:Familie van Berkum\, Waldwei 8\, Elahuizen\, Fryslan\, 8581 KA\, Nederland
END:VEVENT
END:VCALENDAR