BEGIN:VCALENDAR
VERSION:2.0
PRODID:-//Agrarische Jongeren Friesland - ECPv4.9.7//NONSGML v1.0//EN
CALSCALE:GREGORIAN
METHOD:PUBLISH
X-WR-CALNAME:Agrarische Jongeren Friesland
X-ORIGINAL-URL:https://www.ajfriesland.nl
X-WR-CALDESC:Events for Agrarische Jongeren Friesland
BEGIN:VTIMEZONE
TZID:"Europe/Paris"
BEGIN:DAYLIGHT
TZOFFSETFROM:+0100
TZOFFSETTO:+0200
TZNAME:CEST
DTSTART:20210328T010000
END:DAYLIGHT
BEGIN:STANDARD
TZOFFSETFROM:+0200
TZOFFSETTO:+0100
TZNAME:CET
DTSTART:20211031T010000
END:STANDARD
END:VTIMEZONE
BEGIN:VEVENT
DTSTART;TZID="Europe/Paris":20210921T200000
DTEND;TZID="Europe/Paris":20210921T223000
DTSTAMP:20260425T173912
CREATED:20210901T092901Z
LAST-MODIFIED:20210901T092901Z
UID:9210-1632254400-1632263400@www.ajfriesland.nl
SUMMARY:Melkveehouderij Vakgroep
DESCRIPTION:Minno en Jenneke Andreae (Jellum) gaan delen over hun ervaringen met de acties van Grutsk op Greidefugels (waaronder kruidenrijk strokenteelt en plasdrassen) van de afgelopen jaren. Hij heeft een erg succesvol jaar achter de rug mbt weidevogels.\nDaarnaast krijgt Anne Jansma het woord over Living Lab en de toepasbaarheid van NIL op een regulier melkveebedrijf.\nHou de datum vrij! 😁 \n
URL:https://www.ajfriesland.nl/event/melkveehouderij-vakgroep/
CATEGORIES:AJF
ATTACH;FMTTYPE=image/jpeg:https://www.ajfriesland.nl/wp-content/uploads/project-grutsk-op-us-greidefugels-2019_4.jpg
END:VEVENT
END:VCALENDAR