BEGIN:VCALENDAR
VERSION:2.0
PRODID:-//Agrarische Jongeren Friesland - ECPv4.9.7//NONSGML v1.0//EN
CALSCALE:GREGORIAN
METHOD:PUBLISH
X-WR-CALNAME:Agrarische Jongeren Friesland
X-ORIGINAL-URL:https://www.ajfriesland.nl
X-WR-CALDESC:Events for Agrarische Jongeren Friesland
BEGIN:VTIMEZONE
TZID:"Europe/Paris"
BEGIN:DAYLIGHT
TZOFFSETFROM:+0100
TZOFFSETTO:+0200
TZNAME:CEST
DTSTART:20220327T010000
END:DAYLIGHT
BEGIN:STANDARD
TZOFFSETFROM:+0200
TZOFFSETTO:+0100
TZNAME:CET
DTSTART:20221030T010000
END:STANDARD
END:VTIMEZONE
BEGIN:VEVENT
DTSTART;TZID="Europe/Paris":20220322T200000
DTEND;TZID="Europe/Paris":20220322T220000
DTSTAMP:20260425T181813
CREATED:20220304T182143Z
LAST-MODIFIED:20220308T080712Z
UID:9431-1647979200-1647986400@www.ajfriesland.nl
SUMMARY:Melkveehouderijavond AJF thema Bedrijfsovername
DESCRIPTION:Proces van succesvolle bedrijfsovername en fiscale aandachtspunten en actualiteiten Bedrijfsovername melkveehouderij \nDe volgende bijeenkomst wordt georganiseerd in combinatie met onze partner Alfa Accountants en Adviseurs. Het thema van de avond is bedrijfsovername in de melkveehouderij. Engbert Dijkstra (ex-DBer) neemt ons mee in zijn proces van bedrijfsovername. Er is aandacht voor oa de aanloop\, verloop\, kernpunten en aandachtspunten tot succesvol overname. Jelmer Sietzema (Bedrijfskundig adviseur bij Alfa) heeft Engbert tijdens het proces begeleid en geeft nader toelichting. Vervolgens zal Jeroen Boele (Fiscaal jurist bij Alfa) delen over de fiscale aandachtspunten en actualiteiten in de bedrijfsovername. \nAfsluitend is er een kleine borrel. \n \n
URL:https://www.ajfriesland.nl/event/melkveehouderijavond-ajf-thema-bedrijfsovername/
CATEGORIES:AJF
ATTACH;FMTTYPE=image/png:https://www.ajfriesland.nl/wp-content/uploads/Boe.png
END:VEVENT
END:VCALENDAR