BEGIN:VCALENDAR
VERSION:2.0
PRODID:-//Agrarische Jongeren Friesland - ECPv4.9.7//NONSGML v1.0//EN
CALSCALE:GREGORIAN
METHOD:PUBLISH
X-WR-CALNAME:Agrarische Jongeren Friesland
X-ORIGINAL-URL:https://www.ajfriesland.nl
X-WR-CALDESC:Events for Agrarische Jongeren Friesland
BEGIN:VTIMEZONE
TZID:"Europe/Paris"
BEGIN:DAYLIGHT
TZOFFSETFROM:+0100
TZOFFSETTO:+0200
TZNAME:CEST
DTSTART:20210328T010000
END:DAYLIGHT
BEGIN:STANDARD
TZOFFSETFROM:+0200
TZOFFSETTO:+0100
TZNAME:CET
DTSTART:20211031T010000
END:STANDARD
END:VTIMEZONE
BEGIN:VEVENT
DTSTART;TZID="Europe/Paris":20210127T200000
DTEND;TZID="Europe/Paris":20210127T220000
DTSTAMP:20260425T161802
CREATED:20210118T144845Z
LAST-MODIFIED:20210118T144845Z
UID:8927-1611777600-1611784800@www.ajfriesland.nl
SUMMARY:Pubquiz Royal Reesink en NAJK
DESCRIPTION:\n			\n				\n			\n		\n\n
URL:https://www.ajfriesland.nl/event/pubquiz-royal-reesink-en-najk/
END:VEVENT
END:VCALENDAR