BEGIN:VCALENDAR
VERSION:2.0
PRODID:-//Agrarische Jongeren Friesland - ECPv4.9.7//NONSGML v1.0//EN
CALSCALE:GREGORIAN
METHOD:PUBLISH
X-WR-CALNAME:Agrarische Jongeren Friesland
X-ORIGINAL-URL:https://www.ajfriesland.nl
X-WR-CALDESC:Events for Agrarische Jongeren Friesland
BEGIN:VTIMEZONE
TZID:"Europe/Paris"
BEGIN:DAYLIGHT
TZOFFSETFROM:+0100
TZOFFSETTO:+0200
TZNAME:CEST
DTSTART:20210328T010000
END:DAYLIGHT
BEGIN:STANDARD
TZOFFSETFROM:+0200
TZOFFSETTO:+0100
TZNAME:CET
DTSTART:20211031T010000
END:STANDARD
END:VTIMEZONE
BEGIN:VEVENT
DTSTART;TZID="Europe/Paris":20210923T130000
DTEND;TZID="Europe/Paris":20210923T153000
DTSTAMP:20260425T192235
CREATED:20210922T084613Z
LAST-MODIFIED:20210922T084721Z
UID:9257-1632402000-1632411000@www.ajfriesland.nl
SUMMARY:Veenweide Fryslân - Demo Kruiden op Veen
DESCRIPTION: \n
URL:https://www.ajfriesland.nl/event/veenweide-fryslan-demo-kruiden-op-veen/
LOCATION:Maatschap van Os\, Krimwei 12\, Hommerts\, Fryslan
END:VEVENT
END:VCALENDAR